Workbook
Name top: Players!$B$576

Sheet Intro
D1: FANTASY WORLD CUP - 2022
D3: Welcome to Fantasy World Cup - 2022!
D4: A lot of you will have competed in my previous domestic and international
D5: competitions - I've dusted the spreadsheets down! There are 32 countries
D6: taking part in the World Cup tournament, your task is to pick a squad of 20
D7: and aim to top the league at the end of the tournament. Sounds simple? There
D8: are a few restrictions in your way when picking your squad. The 32 countries have
D9: been split into four seeded groups of 8 (based on the official FIFA rankings
D10: as at November 2022). You must pick 5 players from each group of seeds,
A11: picking no more than one player from each country. Your squad will consist of 2 goalkeepers, 6 defenders,
A12: 6 midfielders and 6 forwards.
A14: To enter, please fill in the Entry Form. The form is automatic in that players details will update when you
A15: enter a code (in the Excel version only). Please ensure that you complete all yellow boxes on the Entry Form.
A16: Where possible, please save your entries and e-mail them to me - it makes it easier for me if I can just cut 'n'
A17: paste your entries into my main spreadsheets.
A19: In addition to selecting your squad you must also take a guess at how many goals will be scored in the
A20: World Cup tournament. This is for use in the event of teams finishing level on points to determine league
A21: placings. Your guess will include any goals scored in extra time and penalty shoot-outs.
A23: Entry to the competition is £10.00 - payment by internet banking or Paypal (see Entry Form for details).
A24: 60 managers entered the Euro 2020 comp so there'll be plenty of prize money at stake if we get a
A25: similar number of entries for this World Cup competition!!
... A34: International Hall of Fame
A35: Euro 2020 (21) | C35: Becci Morton
A36: Euro 2016 | C36: Darren Watt
A37: World Cup 2014 | C37: Andrew Wood
A38: Euro 2012 | C38: Paul Maiden
A39: World Cup 2010 | C39: Kevin Murphy
A40: World Cup 2006 | C40: Darren Watt
A41: Euro 2004 | C41: Christopher Grierson
A42: World Cup 2002 | C42: Martin Grierson
A43: Euro 2000 | C43: Paul Burdess
A45: The tournament kicks off on Sunday November 20th. All entries must be submitted before the opening game.
A46: This will give me time to get all entries entered into my spreadsheets and resolve any issues that may
A47: arise from the entries (it will also let me sit back and watch the games myself!!)
A48: ENTRIES WILL NOT BE ACCEPTED UNLESS A PAYMENT HAS BEEN CONFIRMED.
A50: Any queries then please e-mail me at martin.grierson@gmail.com
A53: Good luck
A55: Martin

Sheet Players
A1: CODE | B1: PLAYER | C1: POS | D1: COUNTRY | E1: SEED | F1: GROUP
A2: AR01 | B2: Emiliano Martínez | C2: G | D2: Argentina | E2: 1 | F2: C
A3: AR02 | B3: Franco Armani | C3: G | D3: Argentina | E3: 1 | F3: C
A4: AR03 | B4: Gerónimo Rulli | C4: G | D4: Argentina | E4: 1 | F4: C
A5: AR04 | B5: Nicolás Otamendi | C5: D | D5: Argentina | E5: 1 | F5: C
A6: AR05 | B6: Marcos Acuña | C6: D | D6: Argentina | E6: 1 | F6: C
A7: AR06 | B7: Nicolás Tagliafico | C7: D | D7: Argentina | E7: 1 | F7: C
A8: AR07 | B8: Germán Pezzella | C8: D | D8: Argentina | E8: 1 | F8: C
A9: AR08 | B9: Nahuel Molina | C9: D | D9: Argentina | E9: 1 | F9: C
A10: AR09 | B10: Gonzalo Montiel | C10: D | D10: Argentina | E10: 1 | F10: C
A11: AR10 | B11: Juan Foyth | C11: D | D11: Argentina | E11: 1 | F11: C
A12: AR11 | B12: Cristian Romero | C12: D | D12: Argentina | E12: 1 | F12: C
A13: AR12 | B13: Lisandro Martínez | C13: D | D13: Argentina | E13: 1 | F13: C
... A832: WA26 | B832: Mark Harris | C832: F | D832: Wales | E832: 2 | F832: B

Sheet Rules
C1: RULES
A2: 1 | B2: You must select a squad of 20 players, comprising of two goalkeepers, six defenders,
B3: six midfielders and six forwards.
A4: 2 | B4: You can select only one player from each country.
A5: 3 | B5: You can only select five countries from each group of seeds.
A6: 4 | B6: Closing date for entries is Sunday 20th November at 3pm, BEFORE opening game.
A7: 6 | B7: Points will be awarded as follows:
B8: Appearance (starting match) | D8: 2 points
B9: Appearance (as substitute) | D9: 1 point
B10: Clean sheet – Goalkeeper | D10: 5 points
B11: Clean sheet – Defender | D11: 2 points
B12: NB – a player must be on the pitch for at least 45 minutes to qualify for clean sheet bonus.
B13: Clean sheets will only be counted against 90 minutes - extra time does not count.
B14: Goals scored – Goalkeeper | D14: 9 points per goal
B15: Goals scored – Defender | D15: 7 points per goal
B16: Goals scored – Midfielder | D16: 5 points per goal
B17: Goals scored – Forward | D17: 3 points per goal
B18: Goal scoring bonus – 2 goals | D18: 5 points
B19: Goal scoring bonus – 3 or more goals | D19: 10 points
B20: NB- Goals scored in extra time and penalty shoot outs will count
B21: Assists (all positions) | D21: 3 points per assist
A22: 7 | B22: Points will be deducted as follows:
B23: Own goal | D23: -5 points
B24: Player booked | D24: -2 points
B25: Player sent off | D25: -5 points
B26: NB – if player is sent off for two bookable offences the player will receive –5 points.
A27: 8 | B27: Prize money cannot be confirmed until all entry fees are received. I expect prize money to
B28: be made available to 1st, 2nd, 3rd, 4th and 5th places.
A29: 10 | B29: All match information, ie players, scorers, bookings, etc, will be taken primarily from the
B30: BBC website - https://www.bbc.co.uk/sport/football/world-cup
A31: 11 | B31: In the event of teams finishing level on points then position will be decided on who guessed
B32: closest to the toal number of goal scored in the competition (including extra time and penalty
B33: shoot outs).
A34: 12 | B34: All squad details have been taken from the Wikipedia -
B35: https://en.wikipedia.org/wiki/2022_FIFA_World_Cup_squads - as at 15th November. These
B36: squads may change due to injuries. If you select a player who is later withdrawn you will
B37: not be allowed to change your selection - the withdrawn player in your squad will be replaced
B38: with the replacement player (eg if you select Harry Kane and he is replaced with Ivan Toney
B39: then you will have Toney in your squad).

Sheet Entry Form
A2: =COUNTIF(G$6:G$25,B2) -> 0 | B2: Brazil | C2: FANTASY WORLD CUP - ENTRY FORM | J2: *** PLEASE FILL IN ALL YELLOW BOXES ***
A3: =COUNTIF(G$6:G$25,B3) -> 0 | B3: Belgium | D3: Total number of goals scored in tournament
A4: =COUNTIF(G$6:G$25,B4) -> 0 | B4: France
A5: =COUNTIF(G$6:G$25,B5) -> 0 | B5: Argentina | C5: POS | D5: CODE | E5: POS | F5: PLAYER | G5: COUNTRY | H5: SEED | J5: NAME
A6: =COUNTIF(G$6:G$25,B6) -> 0 | B6: England | C6: G | E6: =IF($D6="","",VLOOKUP($D6,Players!$A$2:$F$891,3,FALSE)) | F6: =IF($D6="","",VLOOKUP($D6,Players!$A$2:$F$891,2,FALSE)) | G6: =IF($D6="","",VLOOKUP($D6,Players!$A$2:$F$891,4,FALSE)) | H6: =IF($D6="","",VLOOKUP($D6,Players!$A$2:$F$891,5,FALSE)) | I6: =IF($D6="","",IF($C6<>$E6,"Wrong position!!","")) | J6: TEAM NAME
A7: =COUNTIF(G$6:G$25,B7) -> 0 | B7: Spain | C7: G | E7: =IF($D7="","",VLOOKUP($D7,Players!$A$2:$F$891,3,FALSE)) | F7: =IF($D7="","",VLOOKUP($D7,Players!$A$2:$F$891,2,FALSE)) | G7: =IF($D7="","",VLOOKUP($D7,Players!$A$2:$F$891,4,FALSE)) | H7: =IF($D7="","",VLOOKUP($D7,Players!$A$2:$F$891,5,FALSE)) | I7: =IF($D7="","",IF($C7<>$E7,"Wrong position!!","")) | J7: PHONE NO
A8: =COUNTIF(G$6:G$25,B8) -> 0 | B8: Portugal | C8: D | E8: =IF($D8="","",VLOOKUP($D8,Players!$A$2:$F$891,3,FALSE)) | F8: =IF($D8="","",VLOOKUP($D8,Players!$A$2:$F$891,2,FALSE)) | G8: =IF($D8="","",VLOOKUP($D8,Players!$A$2:$F$891,4,FALSE)) | H8: =IF($D8="","",VLOOKUP($D8,Players!$A$2:$F$891,5,FALSE)) | I8: =IF($D8="","",IF($C8<>$E8,"Wrong position!!","")) | J8: E-MAIL
A9: =COUNTIF(G$6:G$25,B9) -> 0 | B9: Mexico | C9: D | E9: =IF($D9="","",VLOOKUP($D9,Players!$A$2:$F$891,3,FALSE)) | F9: =IF($D9="","",VLOOKUP($D9,Players!$A$2:$F$891,2,FALSE)) | G9: =IF($D9="","",VLOOKUP($D9,Players!$A$2:$F$891,4,FALSE)) | H9: =IF($D9="","",VLOOKUP($D9,Players!$A$2:$F$891,5,FALSE)) | I9: =IF($D9="","",IF($C9<>$E9,"Wrong position!!",""))
A10: =COUNTIF(G$6:G$25,B10) -> 0 | B10: Denmark | C10: D | E10: =IF($D10="","",VLOOKUP($D10,Players!$A$2:$F$891,3,FALSE)) | F10: =IF($D10="","",VLOOKUP($D10,Players!$A$2:$F$891,2,FALSE)) | G10: =IF($D10="","",VLOOKUP($D10,Players!$A$2:$F$891,4,FALSE)) | H10: =IF($D10="","",VLOOKUP($D10,Players!$A$2:$F$891,5,FALSE)) | I10: =IF($D10="","",IF($C10<>$E10,"Wrong position!!",""))
A11: =COUNTIF(G$6:G$25,B11) -> 0 | B11: Germany | C11: D | E11: =IF($D11="","",VLOOKUP($D11,Players!$A$2:$F$891,3,FALSE)) | F11: =IF($D11="","",VLOOKUP($D11,Players!$A$2:$F$891,2,FALSE)) | G11: =IF($D11="","",VLOOKUP($D11,Players!$A$2:$F$891,4,FALSE)) | H11: =IF($D11="","",VLOOKUP($D11,Players!$A$2:$F$891,5,FALSE)) | I11: =IF($D11="","",IF($C11<>$E11,"Wrong position!!",""))
A12: =COUNTIF(G$6:G$25,B12) -> 0 | B12: Uruguay | C12: D | E12: =IF($D12="","",VLOOKUP($D12,Players!$A$2:$F$891,3,FALSE)) | F12: =IF($D12="","",VLOOKUP($D12,Players!$A$2:$F$891,2,FALSE)) | G12: =IF($D12="","",VLOOKUP($D12,Players!$A$2:$F$891,4,FALSE)) | H12: =IF($D12="","",VLOOKUP($D12,Players!$A$2:$F$891,5,FALSE)) | I12: =IF($D12="","",IF($C12<>$E12,"Wrong position!!",""))
A13: =COUNTIF(G$6:G$25,B13) -> 0 | B13: Switzerland | C13: D | E13: =IF($D13="","",VLOOKUP($D13,Players!$A$2:$F$891,3,FALSE)) | F13: =IF($D13="","",VLOOKUP($D13,Players!$A$2:$F$891,2,FALSE)) | G13: =IF($D13="","",VLOOKUP($D13,Players!$A$2:$F$891,4,FALSE)) | H13: =IF($D13="","",VLOOKUP($D13,Players!$A$2:$F$891,5,FALSE)) | I13: =IF($D13="","",IF($C13<>$E13,"Wrong position!!","")) | J13: Error Codes
A14: =COUNTIF(G$6:G$25,B14) -> 0 | B14: USA | C14: M | E14: =IF($D14="","",VLOOKUP($D14,Players!$A$2:$F$891,3,FALSE)) | F14: =IF($D14="","",VLOOKUP($D14,Players!$A$2:$F$891,2,FALSE)) | G14: =IF($D14="","",VLOOKUP($D14,Players!$A$2:$F$891,4,FALSE)) | H14: =IF($D14="","",VLOOKUP($D14,Players!$A$2:$F$891,5,FALSE)) | I14: =IF($D14="","",IF($C14<>$E14,"Wrong position!!","")) | J14: Please check your sheet carefully before submitting your entry.
A15: =COUNTIF(G$6:G$25,B15) -> 0 | B15: Croatia | C15: M | E15: =IF($D15="","",VLOOKUP($D15,Players!$A$2:$F$891,3,FALSE)) | F15: =IF($D15="","",VLOOKUP($D15,Players!$A$2:$F$891,2,FALSE)) | G15: =IF($D15="","",VLOOKUP($D15,Players!$A$2:$F$891,4,FALSE)) | H15: =IF($D15="","",VLOOKUP($D15,Players!$A$2:$F$891,5,FALSE)) | I15: =IF($D15="","",IF($C15<>$E15,"Wrong position!!","")) | J15: A number of validation rules have been entered to help you with
A16: =COUNTIF(G$6:G$25,B16) -> 0 | B16: Wales | C16: M | E16: =IF($D16="","",VLOOKUP($D16,Players!$A$2:$F$891,3,FALSE)) | F16: =IF($D16="","",VLOOKUP($D16,Players!$A$2:$F$891,2,FALSE)) | G16: =IF($D16="","",VLOOKUP($D16,Players!$A$2:$F$891,4,FALSE)) | H16: =IF($D16="","",VLOOKUP($D16,Players!$A$2:$F$891,5,FALSE)) | I16: =IF($D16="","",IF($C16<>$E16,"Wrong position!!","")) | J16: your entry.
A17: =COUNTIF(G$6:G$25,B17) -> 0 | B17: Netherlands | C17: M | E17: =IF($D17="","",VLOOKUP($D17,Players!$A$2:$F$891,3,FALSE)) | F17: =IF($D17="","",VLOOKUP($D17,Players!$A$2:$F$891,2,FALSE)) | G17: =IF($D17="","",VLOOKUP($D17,Players!$A$2:$F$891,4,FALSE)) | H17: =IF($D17="","",VLOOKUP($D17,Players!$A$2:$F$891,5,FALSE)) | I17: =IF($D17="","",IF($C17<>$E17,"Wrong position!!",""))
A18: =COUNTIF(G$6:G$25,B18) -> 0 | B18: Senegal | C18: M | E18: =IF($D18="","",VLOOKUP($D18,Players!$A$2:$F$891,3,FALSE)) | F18: =IF($D18="","",VLOOKUP($D18,Players!$A$2:$F$891,2,FALSE)) | G18: =IF($D18="","",VLOOKUP($D18,Players!$A$2:$F$891,4,FALSE)) | H18: =IF($D18="","",VLOOKUP($D18,Players!$A$2:$F$891,5,FALSE)) | I18: =IF($D18="","",IF($C18<>$E18,"Wrong position!!","")) | J18: If #N/A is displayed after you have entered a player code
A19: =COUNTIF(G$6:G$25,B19) -> 0 | B19: Iran | C19: M | E19: =IF($D19="","",VLOOKUP($D19,Players!$A$2:$F$891,3,FALSE)) | F19: =IF($D19="","",VLOOKUP($D19,Players!$A$2:$F$891,2,FALSE)) | G19: =IF($D19="","",VLOOKUP($D19,Players!$A$2:$F$891,4,FALSE)) | H19: =IF($D19="","",VLOOKUP($D19,Players!$A$2:$F$891,5,FALSE)) | I19: =IF($D19="","",IF($C19<>$E19,"Wrong position!!","")) | J19: then the code you have keyed is invalid. Please delete
A20: =COUNTIF(G$6:G$25,B20) -> 0 | B20: Morocco | C20: F | E20: =IF($D20="","",VLOOKUP($D20,Players!$A$2:$F$891,3,FALSE)) | F20: =IF($D20="","",VLOOKUP($D20,Players!$A$2:$F$891,2,FALSE)) | G20: =IF($D20="","",VLOOKUP($D20,Players!$A$2:$F$891,4,FALSE)) | H20: =IF($D20="","",VLOOKUP($D20,Players!$A$2:$F$891,5,FALSE)) | I20: =IF($D20="","",IF($C20<>$E20,"Wrong position!!","")) | J20: and try again.
A21: =COUNTIF(G$6:G$25,B21) -> 0 | B21: Japan | C21: F | E21: =IF($D21="","",VLOOKUP($D21,Players!$A$2:$F$891,3,FALSE)) | F21: =IF($D21="","",VLOOKUP($D21,Players!$A$2:$F$891,2,FALSE)) | G21: =IF($D21="","",VLOOKUP($D21,Players!$A$2:$F$891,4,FALSE)) | H21: =IF($D21="","",VLOOKUP($D21,Players!$A$2:$F$891,5,FALSE)) | I21: =IF($D21="","",IF($C21<>$E21,"Wrong position!!",""))
A22: =COUNTIF(G$6:G$25,B22) -> 0 | B22: Serbia | C22: F | E22: =IF($D22="","",VLOOKUP($D22,Players!$A$2:$F$891,3,FALSE)) | F22: =IF($D22="","",VLOOKUP($D22,Players!$A$2:$F$891,2,FALSE)) | G22: =IF($D22="","",VLOOKUP($D22,Players!$A$2:$F$891,4,FALSE)) | H22: =IF($D22="","",VLOOKUP($D22,Players!$A$2:$F$891,5,FALSE)) | I22: =IF($D22="","",IF($C22<>$E22,"Wrong position!!","")) | J22: If you pick a player in the wrong position then "Wrong position!!"
A23: =COUNTIF(G$6:G$25,B23) -> 0 | B23: Poland | C23: F | E23: =IF($D23="","",VLOOKUP($D23,Players!$A$2:$F$891,3,FALSE)) | F23: =IF($D23="","",VLOOKUP($D23,Players!$A$2:$F$891,2,FALSE)) | G23: =IF($D23="","",VLOOKUP($D23,Players!$A$2:$F$891,4,FALSE)) | H23: =IF($D23="","",VLOOKUP($D23,Players!$A$2:$F$891,5,FALSE)) | I23: =IF($D23="","",IF($C23<>$E23,"Wrong position!!","")) | J23: will be displayed adjacent to the player's details.
A24: =COUNTIF(G$6:G$25,B24) -> 0 | B24: South Korea | C24: F | E24: =IF($D24="","",VLOOKUP($D24,Players!$A$2:$F$891,3,FALSE)) | F24: =IF($D24="","",VLOOKUP($D24,Players!$A$2:$F$891,2,FALSE)) | G24: =IF($D24="","",VLOOKUP($D24,Players!$A$2:$F$891,4,FALSE)) | H24: =IF($D24="","",VLOOKUP($D24,Players!$A$2:$F$891,5,FALSE)) | I24: =IF($D24="","",IF($C24<>$E24,"Wrong position!!",""))
A25: =COUNTIF(G$6:G$25,B25) -> 0 | B25: Costa Rica | C25: F | E25: =IF($D25="","",VLOOKUP($D25,Players!$A$2:$F$891,3,FALSE)) | F25: =IF($D25="","",VLOOKUP($D25,Players!$A$2:$F$891,2,FALSE)) | G25: =IF($D25="","",VLOOKUP($D25,Players!$A$2:$F$891,4,FALSE)) | H25: =IF($D25="","",VLOOKUP($D25,Players!$A$2:$F$891,5,FALSE)) | I25: =IF($D25="","",IF($C25<>$E25,"Wrong position!!","")) | J25: If you pick more than five players from a group of seeds then
A26: =COUNTIF(G$6:G$25,B26) -> 0 | B26: Tunisia | C26: =COUNTIF($H$6:$H$25,1) -> 0 | D26: =COUNTIF($H$6:$H$25,2) -> 0 | E26: =COUNTIF($H$6:$H$25,3) -> 0 | F26: =COUNTIF($H$6:$H$25,4) -> 0 | H26: =IF($D26="","",VLOOKUP($D26,Players!$A$2:$F$891,5,FALSE)) -> #N/A
A27: =COUNTIF(G$6:G$25,B27) -> 0 | B27: Cameroon | D27: =IF(C26>5,"You've selected too many players from the first group of seeds!!",IF(D26>5,"You've selected too many players from the second group of seeds!!",IF(E26>5,"You've selected too many players from the third group of seeds!!",IF(F26>5,"You've selected too many players from the fourth group of seeds!!","")))) | J27: "You've selected too many players from the xxx group of seeds!!"
A28: =COUNTIF(G$6:G$25,B28) -> 0 | B28: Canada | D28: =IF(G28<>"","You've selected too many players from ","") | G28: =IF(A2>1,B2,IF(A3>1,B3,IF(A4>1,B4,IF(A5>1,B5,IF(A6>1,B6,IF(A7>1,B7,IF(A8>1,B8,IF(A9>1,B9,"")))))))) | J28: will be displayed (where xxx indicates the group in question).
A29: =COUNTIF(G$6:G$25,B29) -> 0 | B29: Australia | D29: =IF(G29<>"","You've selected too many players from ","") | G29: =IF(A10>1,B10,IF(A11>1,B11,IF(A12>1,B12,IF(A13>1,B13,IF(A14>1,B14,IF(A15>1,B15,IF(A16>1,B16,IF(A17>1,B17,""))))))))
A30: =COUNTIF(G$6:G$25,B30) -> 0 | B30: Ecuador | D30: =IF(G30<>"","You've selected too many players from ","") | G30: =IF(A18>1,B18,IF(A19>1,B19,IF(A20>1,B20,IF(A21>1,B21,IF(A22>1,B22,IF(A23>1,B23,IF(A25>1,B25,IF(A26>1,B26,"")))))))) | J30: If you pick more than one player from a particular country then
A31: =COUNTIF(G$6:G$25,B31) -> 0 | B31: Saudi Arabia | D31: =IF(G31<>"","You've selected too many players from ","") | G31: =IF(A27>1,B27,IF(A28>1,B28,IF(A29>1,B29,IF(A30>1,B30,IF(A31>1,B31,IF(A32>1,B32,IF(A33>1,B33,IF(A24>1,B24,"")))))))) | J31: "You've selected too many players from xxx" will be displayed
A32: =COUNTIF(G$6:G$25,B32) -> 0 | B32: Qatar | D32: =IF(G3="","You haven't completed your tiebreaker yet!!","") -> You haven't completed your tiebreaker yet!! | J32: (where xxx indicates the country in question).
A33: =COUNTIF(G$6:G$25,B33) -> 0 | B33: Ghana | C33: Entry fee is £10 (use Friends & Family option if using Paypal!)
C34: When your entry form is complete then please save the form and send it by e-mail to football@thegriersons.co.uk
C36: Innternet banking: please credit 12-60-50 03697698 and send me an email. Paypal payments to martin.grierson@gmail.com.

Sheet Rankings 
A1: COUNTRY | C1: RANK | D1: SEED
A2: Brazil | B2: G | C2: 1 | D2: 1
A3: Belgium | B3: F | C3: 2 | D3: 1
A4: France | B4: D | C4: 3 | D4: 1
A5: Argentina | B5: C | C5: 4 | D5: 1
A6: England | B6: B | C6: 5 | D6: 1
A7: Spain | B7: E | C7: 7 | D7: 1
A8: Portugal | B8: H | C8: 8 | D8: 1
A9: Mexico | B9: C | C9: 9 | D9: 1
A10: Denmark | B10: D | C10: 11 | D10: 2
A11: Germany | B11: E | C11: 12 | D11: 2
A12: Uruguay | B12: H | C12: 13 | D12: 2
A13: Switzerland | B13: G | C13: 14 | D13: 2
... A33: Ghana | B33: H | C33: 60 | D33: 4
